BEGIN:VCALENDAR
VERSION:2.0
PRODID:-//Schiedsrichtervereinigung Koblenz - ECPv6.15.20//NONSGML v1.0//EN
CALSCALE:GREGORIAN
METHOD:PUBLISH
X-WR-CALNAME:Schiedsrichtervereinigung Koblenz
X-ORIGINAL-URL:https://schiedsrichtervereinigung-koblenz.de
X-WR-CALDESC:Veranstaltungen für Schiedsrichtervereinigung Koblenz
REFRESH-INTERVAL;VALUE=DURATION:PT1H
X-Robots-Tag:noindex
X-PUBLISHED-TTL:PT1H
BEGIN:VTIMEZONE
TZID:Europe/Berlin
BEGIN:DAYLIGHT
TZOFFSETFROM:+0100
TZOFFSETTO:+0200
TZNAME:CEST
DTSTART:20240331T010000
END:DAYLIGHT
BEGIN:STANDARD
TZOFFSETFROM:+0200
TZOFFSETTO:+0100
TZNAME:CET
DTSTART:20241027T010000
END:STANDARD
BEGIN:DAYLIGHT
TZOFFSETFROM:+0100
TZOFFSETTO:+0200
TZNAME:CEST
DTSTART:20250330T010000
END:DAYLIGHT
BEGIN:STANDARD
TZOFFSETFROM:+0200
TZOFFSETTO:+0100
TZNAME:CET
DTSTART:20251026T010000
END:STANDARD
BEGIN:DAYLIGHT
TZOFFSETFROM:+0100
TZOFFSETTO:+0200
TZNAME:CEST
DTSTART:20260329T010000
END:DAYLIGHT
BEGIN:STANDARD
TZOFFSETFROM:+0200
TZOFFSETTO:+0100
TZNAME:CET
DTSTART:20261025T010000
END:STANDARD
END:VTIMEZONE
BEGIN:VEVENT
DTSTART;TZID=Europe/Berlin:20250505T190000
DTEND;TZID=Europe/Berlin:20250505T210000
DTSTAMP:20260421T210909
CREATED:20250321T101227Z
LAST-MODIFIED:20250321T101227Z
UID:3602-1746471600-1746478800@schiedsrichtervereinigung-koblenz.de
SUMMARY:Erste-Hilfe Crashkurs
DESCRIPTION:– Nur auf Einladung – \nIntensiv-Belehrung Kreis Koblenz \nAlle Einheiten finden statt in der Sportschule Oberwerth – Lehrsaal\nLortzingstraße 1a\, 56075 Koblenz\nfür eingeladene Schiedsrichter: 19:00 Uhr bis ca. 21:00 Uhr
URL:https://schiedsrichtervereinigung-koblenz.de/event/erste-hilfe-crashkurs
LOCATION:Sportschule Oberwerth\, Lortzingstraße 1a\, Koblenz\, 56075 \, Deutschland
CATEGORIES:Sonstiges
ATTACH;FMTTYPE=image/jpeg:https://schiedsrichtervereinigung-koblenz.de/wp-content/uploads/2016/12/Sportschule.jpg
END:VEVENT
BEGIN:VEVENT
DTSTART;TZID=Europe/Berlin:20250512T190000
DTEND;TZID=Europe/Berlin:20250512T210000
DTSTAMP:20260421T210909
CREATED:20241027T190138Z
LAST-MODIFIED:20241027T190138Z
UID:3528-1747076400-1747083600@schiedsrichtervereinigung-koblenz.de
SUMMARY:6. Lerneinheit – 1. SR-Pflicht-Belehrung -2024/25-
DESCRIPTION:SR-Pflicht-Belehrung Kreis Koblenz \nAlle Einheiten finden *ab sofort* statt im Vereinsheim VfR -Bei Costa-\nKonrad-Zuse-Straße 2\, 56075 Koblenz\nfür alle Schiedsrichter: 19:00 Uhr bis ca. 21:00 Uhr \nAlle Schiedsrichter müssen innerhalb von 2 Monaten (je Lehreinheit) eine Pflichtbelehrung besuchen. \nWer keine Möglichkeit hat die Belehrungen im Kreis zu besuchen\, kann an den jeweiligen Belehrungen eines anderen Kreises teilnehmen.\nDie Termine sind im Internet auf der Homepage des Fußballverbandes unter www.fv-rheinland.de veröffentlicht.\nIn jedem Fall wird beim Besuch einer anderen Lehreinheit eine schriftliche Teilnahmebestätigung benötigt\, die dem Obmann einzureichen ist.
URL:https://schiedsrichtervereinigung-koblenz.de/event/6-lerneinheit-1-sr-pflicht-belehrung-2024-25
LOCATION:Vereinsheim VfR -Bei Costa-\, Konrad-Zuse-Straße 2\, Koblenz\, 56075
CATEGORIES:SR-Pflicht-Belehrung
ATTACH;FMTTYPE=image/jpeg:https://schiedsrichtervereinigung-koblenz.de/wp-content/uploads/2018/08/costa.jpg
END:VEVENT
END:VCALENDAR