BEGIN:VCALENDAR
VERSION:2.0
PRODID:-//Schiedsrichtervereinigung Koblenz - ECPv6.15.20//NONSGML v1.0//EN
CALSCALE:GREGORIAN
METHOD:PUBLISH
X-ORIGINAL-URL:https://schiedsrichtervereinigung-koblenz.de
X-WR-CALDESC:Veranstaltungen für Schiedsrichtervereinigung Koblenz
REFRESH-INTERVAL;VALUE=DURATION:PT1H
X-Robots-Tag:noindex
X-PUBLISHED-TTL:PT1H
BEGIN:VTIMEZONE
TZID:UTC
BEGIN:STANDARD
TZOFFSETFROM:+0000
TZOFFSETTO:+0000
TZNAME:UTC
DTSTART:20190101T000000
END:STANDARD
END:VTIMEZONE
BEGIN:VEVENT
DTSTART;TZID=UTC:20201109T190000
DTEND;TZID=UTC:20201109T210000
DTSTAMP:20260425T212249
CREATED:20200103T180855Z
LAST-MODIFIED:20201105T170012Z
UID:2460-1604948400-1604955600@schiedsrichtervereinigung-koblenz.de
SUMMARY:ABGESAGT: 3. Lerneinheit – 1. SR-Pflicht-Belehrung -2020/21-
DESCRIPTION:SR-Pflicht-Belehrung Kreis Koblenz \nAlle Einheiten finden *ab sofort* statt im Vereinsheim VfR -Bei Costa-\nKonrad-Zuse-Straße 2\, 56075 Koblenz\nfür alle Schiedsrichter: 19:00 Uhr bis ca. 21:00 Uhr \nAlle Schiedsrichter müssen innerhalb von 2 Monaten (je Lehreinheit) eine Pflichtbelehrung besuchen. \nWer keine Möglichkeit hat die Belehrungen im Kreis zu besuchen\, kann an den jeweiligen Belehrungen eines anderen Kreises teilnehmen.\nDie Termine sind im Internet auf der Homepage des Fußballverbandes unter www.fv-rheinland.de veröffentlicht.\nIn jedem Fall wird beim Besuch einer anderen Lehreinheit eine schriftliche Teilnahmebestätigung benötigt\, die dem Obmann einzureichen ist.
URL:https://schiedsrichtervereinigung-koblenz.de/event/3-lerneinheit-1-sr-pflicht-belehrung-2020-21
LOCATION:Vereinsheim VfR -Bei Costa-\, Konrad-Zuse-Straße 2\, Koblenz\, 56075
CATEGORIES:SR-Pflicht-Belehrung
ATTACH;FMTTYPE=image/jpeg:https://schiedsrichtervereinigung-koblenz.de/wp-content/uploads/2020/01/Corona.jpg
END:VEVENT
BEGIN:VEVENT
DTSTART;TZID=UTC:20201124T190000
DTEND;TZID=UTC:20201124T210000
DTSTAMP:20260425T212249
CREATED:20200103T181939Z
LAST-MODIFIED:20200921T195333Z
UID:2475-1606244400-1606251600@schiedsrichtervereinigung-koblenz.de
SUMMARY:2. Intensiv-Belehrung -2020/21-
DESCRIPTION:– Nur auf Einladung – \nIntensiv-Belehrung Kreis Koblenz \nAlle Einheiten finden statt in der Sportschule Oberwerth\nLortzingstraße 1a\, 56075 Koblenz\nfür eingeladene Schiedsrichter: 19:00 Uhr bis ca. 21:00 Uhr
URL:https://schiedsrichtervereinigung-koblenz.de/event/2-intensiv-belehrung-2020-21
LOCATION:Sportschule Oberwerth\, Lortzingstraße 1a\, Koblenz\, 56075 \, Deutschland
CATEGORIES:Intensiv-Belehrung
ATTACH;FMTTYPE=image/jpeg:https://schiedsrichtervereinigung-koblenz.de/wp-content/uploads/2016/12/Sportschule.jpg
END:VEVENT
END:VCALENDAR